
BEGIN:VCALENDAR
VERSION:2.0
PRODID:-//Mill Forge Makerspace: Innovative Maker Community - ECPv6.15.20//NONSGML v1.0//EN
CALSCALE:GREGORIAN
METHOD:PUBLISH
X-ORIGINAL-URL:https://millforge.org
X-WR-CALDESC:Events for Mill Forge Makerspace: Innovative Maker Community
REFRESH-INTERVAL;VALUE=DURATION:PT1H
X-Robots-Tag:noindex
X-PUBLISHED-TTL:PT1H
BEGIN:VTIMEZONE
TZID:America/New_York
BEGIN:DAYLIGHT
TZOFFSETFROM:-0500
TZOFFSETTO:-0400
TZNAME:EDT
DTSTART:20250309T070000
END:DAYLIGHT
BEGIN:STANDARD
TZOFFSETFROM:-0400
TZOFFSETTO:-0500
TZNAME:EST
DTSTART:20251102T060000
END:STANDARD
BEGIN:DAYLIGHT
TZOFFSETFROM:-0500
TZOFFSETTO:-0400
TZNAME:EDT
DTSTART:20260308T070000
END:DAYLIGHT
BEGIN:STANDARD
TZOFFSETFROM:-0400
TZOFFSETTO:-0500
TZNAME:EST
DTSTART:20261101T060000
END:STANDARD
BEGIN:DAYLIGHT
TZOFFSETFROM:-0500
TZOFFSETTO:-0400
TZNAME:EDT
DTSTART:20270314T070000
END:DAYLIGHT
BEGIN:STANDARD
TZOFFSETFROM:-0400
TZOFFSETTO:-0500
TZNAME:EST
DTSTART:20271107T060000
END:STANDARD
END:VTIMEZONE
BEGIN:VEVENT
DTSTART;TZID=America/New_York:20260423T180000
DTEND;TZID=America/New_York:20260423T203000
DTSTAMP:20260423T073225
CREATED:20260403T214259Z
LAST-MODIFIED:20260417T212005Z
UID:10000057-1776967200-1776976200@millforge.org
SUMMARY:Intro to Metalworking (April 2026)
DESCRIPTION:Introductory course on basic safety and operation of metalworking equipment at Mill Forge Makerspace. This class will cover all operational stationary power equipment in the metals area\, and will provide certification for solo use by Mill Forge Makerspace members. Anticipated coverage will include: \n\n\n\n\nDrill Press\n\n\n\nFinger Brake\n\n\n\nHorizontal Band Saw\n\n\n\nDrill Press\n\n\n\nSlip Roller\n\n\n\nShear\n\n\n\nBlind Riveter\n\n\n\n\nAppropriate attire required: \n\n\n\n\nLong pants\n\n\n\nClosed-toe shoes (safety or steel toe recommended but optional)\n\n\n\nNo loose clothing\, jewelry\, or accessories\n\n\n\nEye protection (safety glasses will be provided if needed)\n\n\n\nLong hair tied back/up or securely covered (e.g.\, under a well-fitting hat)
URL:https://millforge.org/event/intro-to-metalworking-april-2026/
LOCATION:Mill Forge Makerspace\, 61 Endicott St.\, Building 46\, Norwood\, MA\, 02062\, United States
CATEGORIES:Public Class
GEO:42.1767862;-71.2166473
X-APPLE-STRUCTURED-LOCATION;VALUE=URI;X-ADDRESS=Mill Forge Makerspace 61 Endicott St. Building 46 Norwood MA 02062 United States;X-APPLE-RADIUS=500;X-TITLE=61 Endicott St.\, Building 46:geo:-71.2166473,42.1767862
END:VEVENT
BEGIN:VEVENT
DTSTART;TZID=America/New_York:20260425T130000
DTEND;TZID=America/New_York:20260425T160000
DTSTAMP:20260423T073225
CREATED:20260410T132147Z
LAST-MODIFIED:20260410T132150Z
UID:10000059-1777122000-1777132800@millforge.org
SUMMARY:Miniature Model & Painting Workshop (April 2026)
DESCRIPTION:Uplevel your tabletop game experience at Mill Forge Makerspace. Mill Forge is hosting a regular drop-in group event for 3D printing\, finishing\, and painting mini-figures and DIY game terrain elements. Together\, let’s bring your fantasy world to life! \n\n\n\nWork with award-winning miniature painters\, top-of-the-line resin & FDM 3D printing equipment\, and members with hands-on experience. See new materials\, try new techniques\, and meet like-minded makers in this informal gathering. \n\n\n\n\n\n\n\n3D printing materials for personal projects are free for members\, and may be charged back for non-members if needed. Optional training & focused hands-on workshops will be offered as add-ons to this monthly program. \n\n\n\nTry your hand at airbrushing for base coat and terrain!
URL:https://millforge.org/event/miniature-model-painting-workshop-april-2026/
LOCATION:Mill Forge Makerspace\, 61 Endicott St.\, Building 46\, Norwood\, MA\, 02062\, United States
CATEGORIES:Public Event
ATTACH;FMTTYPE=image/jpeg:https://millforge.org/wp-content/uploads/2026/03/2026-02-little-green-guy.jpg
GEO:42.1767862;-71.2166473
X-APPLE-STRUCTURED-LOCATION;VALUE=URI;X-ADDRESS=Mill Forge Makerspace 61 Endicott St. Building 46 Norwood MA 02062 United States;X-APPLE-RADIUS=500;X-TITLE=61 Endicott St.\, Building 46:geo:-71.2166473,42.1767862
END:VEVENT
BEGIN:VEVENT
DTSTART;TZID=America/New_York:20260506T160000
DTEND;TZID=America/New_York:20260506T190000
DTSTAMP:20260423T073225
CREATED:20260410T145223Z
LAST-MODIFIED:20260417T212015Z
UID:10000060-1778083200-1778094000@millforge.org
SUMMARY:Open Hack Night - May 2026
DESCRIPTION:Mill Forge Makerspace welcomes members\, volunteers\, friends\, and the public to Open Hack Night! \n\n\n\nCome talk with Mill Forge makers about new projects\, new tools at the space\, and the soon-to-be-completed 800 square foot welding area! Switching to backyard projects for the spring? Check out framing tools\, home automation projects\, and gardening ideas. (Maybe check out a work bay\, too!) \n\n\n\n\n\n\n\nOpen Hack is a semi-regular informal gathering of the Mill Forge community and is open to the public. Come meet makerspace members\, show off a project\, get some help with a tough challenge\, or bounce ideas off of like-minded makers. \n\n\n\n(Light refreshments will be served.)
URL:https://millforge.org/event/open-hack-night-may-2026/
LOCATION:Mill Forge Makerspace\, 61 Endicott St.\, Building 46\, Norwood\, MA\, 02062\, United States
CATEGORIES:Public Event
ATTACH;FMTTYPE=image/png:https://millforge.org/wp-content/uploads/2025/10/Vertical-Lockup.png
GEO:42.1767862;-71.2166473
X-APPLE-STRUCTURED-LOCATION;VALUE=URI;X-ADDRESS=Mill Forge Makerspace 61 Endicott St. Building 46 Norwood MA 02062 United States;X-APPLE-RADIUS=500;X-TITLE=61 Endicott St.\, Building 46:geo:-71.2166473,42.1767862
END:VEVENT
BEGIN:VEVENT
DTSTART;TZID=America/New_York:20261231T080000
DTEND;TZID=America/New_York:20261231T170000
DTSTAMP:20260423T073225
CREATED:20250813T144219Z
LAST-MODIFIED:20251122T163654Z
UID:10000006-1798704000-1798736400@millforge.org
SUMMARY:Pitch Us A Class!
DESCRIPTION:More classes are being added\, but if you are an expert\, a dedicated hobbyist\, a potential student\, or someone with niche experience or training\, we’d love to hear your ideas for a course! \n\n\n\nMill Forge pays our instructors\, usually $60 per hour (assuming at least 3 students). \n\n\n\nHow to pitch: Put together a brief description of the class; some photos\, drawings\, or designs for projects students would be creating or learning to make; a rough materials list\, and an estimate of how many course hours and students would make a good class. It doesn’t have to be anything elaborate – just enough to get the idea.  \n\n\n\nEmail us at info@millforge.org or use the contact form to send your idea. We’ll get back to you with questions\, and get your course on the calendar if it’s a good fit!
URL:https://millforge.org/event/pitch-us-a-class/
LOCATION:Mill Forge Makerspace\, 61 Endicott St.\, Building 46\, Norwood\, MA\, 02062\, United States
CATEGORIES:Public Class
GEO:42.1767862;-71.2166473
X-APPLE-STRUCTURED-LOCATION;VALUE=URI;X-ADDRESS=Mill Forge Makerspace 61 Endicott St. Building 46 Norwood MA 02062 United States;X-APPLE-RADIUS=500;X-TITLE=61 Endicott St.\, Building 46:geo:-71.2166473,42.1767862
END:VEVENT
END:VCALENDAR